BEGIN:VCALENDAR
VERSION:2.0
PRODID:-//Amnesty International Groningen - ECPv6.15.20//NONSGML v1.0//EN
CALSCALE:GREGORIAN
METHOD:PUBLISH
X-WR-CALNAME:Amnesty International Groningen
X-ORIGINAL-URL:https://groningen.amnesty.nl
X-WR-CALDESC:Evenementen voor Amnesty International Groningen
REFRESH-INTERVAL;VALUE=DURATION:PT1H
X-Robots-Tag:noindex
X-PUBLISHED-TTL:PT1H
BEGIN:VTIMEZONE
TZID:Europe/Amsterdam
BEGIN:DAYLIGHT
TZOFFSETFROM:+0100
TZOFFSETTO:+0200
TZNAME:CEST
DTSTART:20230326T010000
END:DAYLIGHT
BEGIN:STANDARD
TZOFFSETFROM:+0200
TZOFFSETTO:+0100
TZNAME:CET
DTSTART:20231029T010000
END:STANDARD
BEGIN:DAYLIGHT
TZOFFSETFROM:+0100
TZOFFSETTO:+0200
TZNAME:CEST
DTSTART:20240331T010000
END:DAYLIGHT
BEGIN:STANDARD
TZOFFSETFROM:+0200
TZOFFSETTO:+0100
TZNAME:CET
DTSTART:20241027T010000
END:STANDARD
BEGIN:DAYLIGHT
TZOFFSETFROM:+0100
TZOFFSETTO:+0200
TZNAME:CEST
DTSTART:20250330T010000
END:DAYLIGHT
BEGIN:STANDARD
TZOFFSETFROM:+0200
TZOFFSETTO:+0100
TZNAME:CET
DTSTART:20251026T010000
END:STANDARD
END:VTIMEZONE
BEGIN:VEVENT
DTSTART;TZID=Europe/Amsterdam:20241208T100000
DTEND;TZID=Europe/Amsterdam:20241208T200000
DTSTAMP:20260420T091715
CREATED:20231204T113820Z
LAST-MODIFIED:20241109T063159Z
UID:1408-1733652000-1733688000@groningen.amnesty.nl
SUMMARY:Write For Rights. - Schrijf een brief. Verander een leven.
DESCRIPTION:Schrijf een brief. Verander een leven.\nIeder jaar rond 10 december komen we met Write for Rights in actie voor mensen die onterecht vastzitten of worden bedreigd vanwege hun werk\, mening of om wie ze zijn. We sturen honderdduizenden brieven naar koningen\, ministers en presidenten en vragen hun een einde te maken aan onrecht. Deze internationale actie levert elk jaar succes op. Activisten komen vrij\, discriminatie stopt\, daders worden berecht. Help je ook (weer) mee dit jaar? \nDoe mee met de grootste briefschrijfactie van Nederland!
URL:https://groningen.amnesty.nl/event/write-for-rights-schrijf-een-brief-verander-een-leven-2/
LOCATION:Groninger Forum\, Nieuwe Markt 1\, Groningen\, 9712JG\, Nederland
CATEGORIES:Write for rights
ATTACH;FMTTYPE=image/png:https://groningen.amnesty.nl/wp-content/uploads/2022/11/Schrijfmiddag.png
END:VEVENT
BEGIN:VEVENT
DTSTART;TZID=Europe/Amsterdam:20241214T120000
DTEND;TZID=Europe/Amsterdam:20241214T170000
DTSTAMP:20260420T091715
CREATED:20241123T083114Z
LAST-MODIFIED:20241123T083217Z
UID:1483-1734177600-1734195600@groningen.amnesty.nl
SUMMARY:Stand van Amnesty op de markt
DESCRIPTION:Stand van Amnesty op de markt (Akerkhof of Vismarkt)  met informatie over het werk van Amnesty International. Er liggen petitielijsten om te tekenen\, KERSTKAARTEN en kaarten\, kaarsen en andere Amnesty gerelateerde artikelen.
URL:https://groningen.amnesty.nl/event/stand-van-amnesty-op-de-markt-2/
LOCATION:Vismarkt\, Vismarkt\, Groningen\, Nederland
ATTACH;FMTTYPE=image/jpeg:https://groningen.amnesty.nl/wp-content/uploads/2023/03/amnesty.jpg
END:VEVENT
END:VCALENDAR