BEGIN:VCALENDAR
VERSION:2.0
PRODID:-//Amnesty International Groningen - ECPv6.15.20//NONSGML v1.0//EN
CALSCALE:GREGORIAN
METHOD:PUBLISH
X-WR-CALNAME:Amnesty International Groningen
X-ORIGINAL-URL:https://groningen.amnesty.nl
X-WR-CALDESC:Evenementen voor Amnesty International Groningen
REFRESH-INTERVAL;VALUE=DURATION:PT1H
X-Robots-Tag:noindex
X-PUBLISHED-TTL:PT1H
BEGIN:VTIMEZONE
TZID:Europe/Amsterdam
BEGIN:DAYLIGHT
TZOFFSETFROM:+0100
TZOFFSETTO:+0200
TZNAME:CEST
DTSTART:20240331T010000
END:DAYLIGHT
BEGIN:STANDARD
TZOFFSETFROM:+0200
TZOFFSETTO:+0100
TZNAME:CET
DTSTART:20241027T010000
END:STANDARD
BEGIN:DAYLIGHT
TZOFFSETFROM:+0100
TZOFFSETTO:+0200
TZNAME:CEST
DTSTART:20250330T010000
END:DAYLIGHT
BEGIN:STANDARD
TZOFFSETFROM:+0200
TZOFFSETTO:+0100
TZNAME:CET
DTSTART:20251026T010000
END:STANDARD
BEGIN:DAYLIGHT
TZOFFSETFROM:+0100
TZOFFSETTO:+0200
TZNAME:CEST
DTSTART:20260329T010000
END:DAYLIGHT
BEGIN:STANDARD
TZOFFSETFROM:+0200
TZOFFSETTO:+0100
TZNAME:CET
DTSTART:20261025T010000
END:STANDARD
BEGIN:DAYLIGHT
TZOFFSETFROM:+0100
TZOFFSETTO:+0200
TZNAME:CEST
DTSTART:20270328T010000
END:DAYLIGHT
BEGIN:STANDARD
TZOFFSETFROM:+0200
TZOFFSETTO:+0100
TZNAME:CET
DTSTART:20271031T010000
END:STANDARD
END:VTIMEZONE
BEGIN:VEVENT
DTSTART;TZID=Europe/Amsterdam:20251011T120000
DTEND;TZID=Europe/Amsterdam:20251011T170000
DTSTAMP:20260420T063053
CREATED:20250918T092624Z
LAST-MODIFIED:20250918T092624Z
UID:1516-1760184000-1760202000@groningen.amnesty.nl
SUMMARY:Stand van Amnesty op de Vismarkt
DESCRIPTION:Stand van Amnesty op de Vismarkt  met informatie over het werk van Amnesty International. Er liggen petitielijsten om te tekenen\, kaarten\, kaarsen en andere Amnesty gerelateerde artikelen.
URL:https://groningen.amnesty.nl/event/stand-van-amnesty-op-de-vismarkt-3/
LOCATION:Vismarkt\, Vismarkt\, Groningen\, Nederland
END:VEVENT
BEGIN:VEVENT
DTSTART;TZID=Europe/Amsterdam:20251104T120000
DTEND;TZID=Europe/Amsterdam:20251104T140000
DTSTAMP:20260420T063053
CREATED:20241109T131157Z
LAST-MODIFIED:20241115T100457Z
UID:1468-1762257600-1762264800@groningen.amnesty.nl
SUMMARY:Schrijfmiddag in eetcafé De Globe
DESCRIPTION:Elke eerste dinsdagmiddag van de maand (behalve in augustus en december*) tussen 12 uur en 14 uur organiseert de stadsgroep een open schrijfmiddag in eetcafé De Globe in het Humanitasgebouw\, Akerkhof Zuidzijde 22 in Groningen.\n\nWij schrijven dan Engelstalige brieven naar diverse internationale overheidsinstanties om onterecht gevangenen vrij te pleiten en andere schendingen van de mensenrechten aan te kaarten. De maandelijks door Amnesty Nederland aangereikte voorbeeldbrieven\, pennen en papier liggen klaar. We sturen de brieven en kopieën ervan voor de ambassades dan bij elkaar in grote enveloppen op. Bijdragen in de portokosten zijn welkom.\n\nEen lunch en/of een kopje thee of koffie zijn goed met deze activiteit te combineren. Hartelijk welkom!\n\n* Elk jaar rond de dag van de mensenrechten op 10 december organiseert de stadsgroep met andere Amnesty groepen op diverse plekken in de stad de grote Write for Rights actie\, die de hele dag duurt. De precieze data en plaatsen daarvoor worden in de loop van de herfst bekend gemaakt.
URL:https://groningen.amnesty.nl/event/schrijfmiddag-in-eetcafe-de-globe-19/
LOCATION:Eetcafe de Globe\, Akerkhof 22\, Groningen\, 9711 JB\, Nederland
CATEGORIES:Schrijfmiddag
ATTACH;FMTTYPE=image/png:https://groningen.amnesty.nl/wp-content/uploads/2022/11/Schrijfmiddag.png
END:VEVENT
BEGIN:VEVENT
DTSTART;TZID=Europe/Amsterdam:20251122T120000
DTEND;TZID=Europe/Amsterdam:20251122T170000
DTSTAMP:20260420T063053
CREATED:20251109T071240Z
LAST-MODIFIED:20251109T071240Z
UID:1521-1763812800-1763830800@groningen.amnesty.nl
SUMMARY:Stand van Amnesty op de Vismarkt
DESCRIPTION:Stand van Amnesty op de Vismarkt  met informatie over het werk van Amnesty International. Er liggen petitielijsten om te tekenen\, kaarten\, kaarsen en andere Amnesty gerelateerde artikelen.
URL:https://groningen.amnesty.nl/event/stand-van-amnesty-op-de-vismarkt-4/
LOCATION:Vismarkt\, Vismarkt\, Groningen\, Nederland
END:VEVENT
BEGIN:VEVENT
DTSTART;TZID=Europe/Amsterdam:20251207T100000
DTEND;TZID=Europe/Amsterdam:20251207T200000
DTSTAMP:20260420T063053
CREATED:20251120T054754Z
LAST-MODIFIED:20251120T054754Z
UID:1524-1765101600-1765137600@groningen.amnesty.nl
SUMMARY:Write For Rights. – Schrijf een brief. Verander een leven.
DESCRIPTION:Op zondag 7 december staat Amnesty in het Forum op de eerste verdieping met de schrijfactie Write for Rights. Er zijn voorbeeldbrieven\, kaarten\, schrijfmateriaal en petitielijsten aanwezig. Of je nu één brief schrijft of wel tien: je bent welkom tussen 10:00 en 20:00 om te helpen actievoeren tegen de schending van mensenrechten. Heb je geen tijd om ter plekke te schrijven\, maar wil je toch meedoen? Dan kun je een schrijfpakket meenemen om thuis te schrijven of al klaarliggende brieven ondertekenen.
URL:https://groningen.amnesty.nl/event/write-for-rights-schrijf-een-brief-verander-een-leven-3/
LOCATION:Groninger Forum\, Nieuwe Markt 1\, Groningen\, 9712JG\, Nederland
CATEGORIES:Write for rights
END:VEVENT
BEGIN:VEVENT
DTSTART;TZID=Europe/Amsterdam:20260106T120000
DTEND;TZID=Europe/Amsterdam:20260106T140000
DTSTAMP:20260420T063053
CREATED:20260108T125234Z
LAST-MODIFIED:20260108T130602Z
UID:1529-1767700800-1767708000@groningen.amnesty.nl
SUMMARY:Schrijfmiddag in eetcafé De Globe
DESCRIPTION:Elke eerste dinsdagmiddag van de maand (behalve in augustus en december*) tussen 12 uur en 14 uur organiseert de stadsgroep een open schrijfmiddag in eetcafé De Globe in het Humanitasgebouw\, Akerkhof Zuidzijde 22 in Groningen.\n\nWij schrijven dan Engelstalige brieven naar diverse internationale overheidsinstanties om onterecht gevangenen vrij te pleiten en andere schendingen van de mensenrechten aan te kaarten. De maandelijks door Amnesty Nederland aangereikte voorbeeldbrieven\, pennen en papier liggen klaar. We sturen de brieven en kopieën ervan voor de ambassades dan bij elkaar in grote enveloppen op. Bijdragen in de portokosten zijn welkom.\n\nEen lunch en/of een kopje thee of koffie zijn goed met deze activiteit te combineren. Hartelijk welkom!\n\n* Elk jaar rond de dag van de mensenrechten op 10 december organiseert de stadsgroep met andere Amnesty groepen op diverse plekken in de stad de grote Write for Rights actie\, die de hele dag duurt. De precieze data en plaatsen daarvoor worden in de loop van de herfst bekend gemaakt.
URL:https://groningen.amnesty.nl/event/schrijfmiddag-in-eetcafe-de-globe-20/
LOCATION:Eetcafe de Globe\, Akerkhof 22\, Groningen\, 9711 JB\, Nederland
CATEGORIES:Schrijfmiddag
END:VEVENT
BEGIN:VEVENT
DTSTART;TZID=Europe/Amsterdam:20260203T120000
DTEND;TZID=Europe/Amsterdam:20260203T140000
DTSTAMP:20260420T063053
CREATED:20260108T125409Z
LAST-MODIFIED:20260108T130539Z
UID:1531-1770120000-1770127200@groningen.amnesty.nl
SUMMARY:Schrijfmiddag in eetcafé De Globe
DESCRIPTION:Elke eerste dinsdagmiddag van de maand (behalve in augustus en december*) tussen 12 uur en 14 uur organiseert de stadsgroep een open schrijfmiddag in eetcafé De Globe in het Humanitasgebouw\, Akerkhof Zuidzijde 22 in Groningen.\n\nWij schrijven dan Engelstalige brieven naar diverse internationale overheidsinstanties om onterecht gevangenen vrij te pleiten en andere schendingen van de mensenrechten aan te kaarten. De maandelijks door Amnesty Nederland aangereikte voorbeeldbrieven\, pennen en papier liggen klaar. We sturen de brieven en kopieën ervan voor de ambassades dan bij elkaar in grote enveloppen op. Bijdragen in de portokosten zijn welkom.\n\nEen lunch en/of een kopje thee of koffie zijn goed met deze activiteit te combineren. Hartelijk welkom!\n\n* Elk jaar rond de dag van de mensenrechten op 10 december organiseert de stadsgroep met andere Amnesty groepen op diverse plekken in de stad de grote Write for Rights actie\, die de hele dag duurt. De precieze data en plaatsen daarvoor worden in de loop van de herfst bekend gemaakt.
URL:https://groningen.amnesty.nl/event/schrijfmiddag-in-eetcafe-de-globe-21/
LOCATION:Eetcafe de Globe\, Akerkhof 22\, Groningen\, 9711 JB\, Nederland
CATEGORIES:Schrijfmiddag
ATTACH;FMTTYPE=image/png:https://groningen.amnesty.nl/wp-content/uploads/2022/11/Schrijfmiddag.png
END:VEVENT
BEGIN:VEVENT
DTSTART;TZID=Europe/Amsterdam:20260303T120000
DTEND;TZID=Europe/Amsterdam:20260303T140000
DTSTAMP:20260420T063053
CREATED:20260108T125502Z
LAST-MODIFIED:20260108T130514Z
UID:1533-1772539200-1772546400@groningen.amnesty.nl
SUMMARY:Schrijfmiddag in eetcafé De Globe
DESCRIPTION:Elke eerste dinsdagmiddag van de maand (behalve in augustus en december*) tussen 12 uur en 14 uur organiseert de stadsgroep een open schrijfmiddag in eetcafé De Globe in het Humanitasgebouw\, Akerkhof Zuidzijde 22 in Groningen.\n\nWij schrijven dan Engelstalige brieven naar diverse internationale overheidsinstanties om onterecht gevangenen vrij te pleiten en andere schendingen van de mensenrechten aan te kaarten. De maandelijks door Amnesty Nederland aangereikte voorbeeldbrieven\, pennen en papier liggen klaar. We sturen de brieven en kopieën ervan voor de ambassades dan bij elkaar in grote enveloppen op. Bijdragen in de portokosten zijn welkom.\n\nEen lunch en/of een kopje thee of koffie zijn goed met deze activiteit te combineren. Hartelijk welkom!\n\n* Elk jaar rond de dag van de mensenrechten op 10 december organiseert de stadsgroep met andere Amnesty groepen op diverse plekken in de stad de grote Write for Rights actie\, die de hele dag duurt. De precieze data en plaatsen daarvoor worden in de loop van de herfst bekend gemaakt.
URL:https://groningen.amnesty.nl/event/schrijfmiddag-in-eetcafe-de-globe-22/
LOCATION:Eetcafe de Globe\, Akerkhof 22\, Groningen\, 9711 JB\, Nederland
CATEGORIES:Schrijfmiddag
END:VEVENT
BEGIN:VEVENT
DTSTART;TZID=Europe/Amsterdam:20260308T140000
DTEND;TZID=Europe/Amsterdam:20260308T170000
DTSTAMP:20260420T063053
CREATED:20260302T200433Z
LAST-MODIFIED:20260302T200433Z
UID:1563-1772978400-1772989200@groningen.amnesty.nl
SUMMARY:Internationale Vrouwendag in 't Vinkhuys
DESCRIPTION:Multicultureel Vrouwencentrum Jasmijn organiseert een veelzijdig evenement met onder andere presentaties\, zang\, hapjes en aandacht voor vrouwenrechten in ‘t Vinkhuys. Sluit aan voor een gezellige middag met informatie en inspiratie! Wees welkom tussen 14:00 en 17:00. \n 
URL:https://groningen.amnesty.nl/event/internationale-vrouwendag-in-t-vinkhuys/
LOCATION:vinkhuys\, Diamantlaan 94\, Groningen\, 9743BJ\, Netherlands
END:VEVENT
BEGIN:VEVENT
DTSTART;TZID=Europe/Amsterdam:20260317T160000
DTEND;TZID=Europe/Amsterdam:20260317T210000
DTSTAMP:20260420T063053
CREATED:20260313T144834Z
LAST-MODIFIED:20260313T144834Z
UID:1568-1773763200-1773781200@groningen.amnesty.nl
SUMMARY:Schrijfactie ''Stop de Asielwetten''
DESCRIPTION:Tussen 14 en 22 maart a.s. organiseert het bondgenootschap “Stop de Asielwetten” waarbij Amnesty is aangesloten een landelijke schrijfactieweek tegen de asielwetten waarbij kaarten gestuurd worden naar Eerste Kamerleden met de boodschap: stop de onmenselijke\, onrechtvaardige en onuitvoerbare asielwetten. Zou de Eerste Kamer de wetten goedkeuren\, dan worden bijvoorbeeld mensen zonder verblijfspapieren strafbaar. \nIn Groningen heeft stichting Inlia\, een dienstverlenende organisatie voor lokale kerken en geloofsgemeenschappen die zich voor vluchtelingen en asielzoekers in nood inzetten\, het voortouw genomen door een schrijfactie te organiseren op dinsdag 17 maart a.s. van 16 tot 21 uur in hun pand het Convent aan de Merwedestraat 43 in Groningen. Amnesty Groningen heeft zich hierbij aangesloten. Wees welkom om mee te schrijven. Maak een verschil!
URL:https://groningen.amnesty.nl/event/schrijfactie-stop-de-asielwetten/
LOCATION:Merwedestraat 43  9725 KA Groningen\, Merwedestraat 43\, Groningen\, 9725KA
END:VEVENT
BEGIN:VEVENT
DTSTART;TZID=Europe/Amsterdam:20260328T120000
DTEND;TZID=Europe/Amsterdam:20260328T170000
DTSTAMP:20260420T063053
CREATED:20260325T084645Z
LAST-MODIFIED:20260325T084645Z
UID:1574-1774699200-1774717200@groningen.amnesty.nl
SUMMARY:Stand van Amnesty op de Vismarkt
DESCRIPTION:Stand van Amnesty op de Vismarkt  met informatie over het werk van Amnesty International. Er liggen petitielijsten om te tekenen\, kaarten\, kaarsen en andere aan Amnesty gerelateerde artikelen.
URL:https://groningen.amnesty.nl/event/stand-van-amnesty-op-de-vismarkt-5/
LOCATION:Vismarkt\, Vismarkt\, Groningen\, Nederland
END:VEVENT
BEGIN:VEVENT
DTSTART;TZID=Europe/Amsterdam:20260407T120000
DTEND;TZID=Europe/Amsterdam:20260407T140000
DTSTAMP:20260420T063053
CREATED:20260108T125553Z
LAST-MODIFIED:20260108T130445Z
UID:1535-1775563200-1775570400@groningen.amnesty.nl
SUMMARY:Schrijfmiddag in eetcafé De Globe
DESCRIPTION:Elke eerste dinsdagmiddag van de maand (behalve in augustus en december*) tussen 12 uur en 14 uur organiseert de stadsgroep een open schrijfmiddag in eetcafé De Globe in het Humanitasgebouw\, Akerkhof Zuidzijde 22 in Groningen.\n\nWij schrijven dan Engelstalige brieven naar diverse internationale overheidsinstanties om onterecht gevangenen vrij te pleiten en andere schendingen van de mensenrechten aan te kaarten. De maandelijks door Amnesty Nederland aangereikte voorbeeldbrieven\, pennen en papier liggen klaar. We sturen de brieven en kopieën ervan voor de ambassades dan bij elkaar in grote enveloppen op. Bijdragen in de portokosten zijn welkom.\n\nEen lunch en/of een kopje thee of koffie zijn goed met deze activiteit te combineren. Hartelijk welkom!\n\n* Elk jaar rond de dag van de mensenrechten op 10 december organiseert de stadsgroep met andere Amnesty groepen op diverse plekken in de stad de grote Write for Rights actie\, die de hele dag duurt. De precieze data en plaatsen daarvoor worden in de loop van de herfst bekend gemaakt.
URL:https://groningen.amnesty.nl/event/schrijfmiddag-in-eetcafe-de-globe-23/
LOCATION:Eetcafe de Globe\, Akerkhof 22\, Groningen\, 9711 JB\, Nederland
CATEGORIES:Schrijfmiddag
ATTACH;FMTTYPE=image/png:https://groningen.amnesty.nl/wp-content/uploads/2022/11/Schrijfmiddag.png
END:VEVENT
BEGIN:VEVENT
DTSTART;TZID=Europe/Amsterdam:20260505T120000
DTEND;TZID=Europe/Amsterdam:20260505T140000
DTSTAMP:20260420T063053
CREATED:20260108T125702Z
LAST-MODIFIED:20260108T130422Z
UID:1537-1777982400-1777989600@groningen.amnesty.nl
SUMMARY:Schrijfmiddag in eetcafé De Globe
DESCRIPTION:Elke eerste dinsdagmiddag van de maand (behalve in augustus en december*) tussen 12 uur en 14 uur organiseert de stadsgroep een open schrijfmiddag in eetcafé De Globe in het Humanitasgebouw\, Akerkhof Zuidzijde 22 in Groningen.\n\nWij schrijven dan Engelstalige brieven naar diverse internationale overheidsinstanties om onterecht gevangenen vrij te pleiten en andere schendingen van de mensenrechten aan te kaarten. De maandelijks door Amnesty Nederland aangereikte voorbeeldbrieven\, pennen en papier liggen klaar. We sturen de brieven en kopieën ervan voor de ambassades dan bij elkaar in grote enveloppen op. Bijdragen in de portokosten zijn welkom.\n\nEen lunch en/of een kopje thee of koffie zijn goed met deze activiteit te combineren. Hartelijk welkom!\n\n* Elk jaar rond de dag van de mensenrechten op 10 december organiseert de stadsgroep met andere Amnesty groepen op diverse plekken in de stad de grote Write for Rights actie\, die de hele dag duurt. De precieze data en plaatsen daarvoor worden in de loop van de herfst bekend gemaakt.
URL:https://groningen.amnesty.nl/event/schrijfmiddag-in-eetcafe-de-globe-24/
LOCATION:Eetcafe de Globe\, Akerkhof 22\, Groningen\, 9711 JB\, Nederland
CATEGORIES:Schrijfmiddag
ATTACH;FMTTYPE=image/png:https://groningen.amnesty.nl/wp-content/uploads/2022/11/Schrijfmiddag.png
END:VEVENT
BEGIN:VEVENT
DTSTART;TZID=Europe/Amsterdam:20260602T120000
DTEND;TZID=Europe/Amsterdam:20260602T140000
DTSTAMP:20260420T063053
CREATED:20260108T125745Z
LAST-MODIFIED:20260108T130355Z
UID:1539-1780401600-1780408800@groningen.amnesty.nl
SUMMARY:Schrijfmiddag in eetcafé De Globe
DESCRIPTION:Elke eerste dinsdagmiddag van de maand (behalve in augustus en december*) tussen 12 uur en 14 uur organiseert de stadsgroep een open schrijfmiddag in eetcafé De Globe in het Humanitasgebouw\, Akerkhof Zuidzijde 22 in Groningen.\n\nWij schrijven dan Engelstalige brieven naar diverse internationale overheidsinstanties om onterecht gevangenen vrij te pleiten en andere schendingen van de mensenrechten aan te kaarten. De maandelijks door Amnesty Nederland aangereikte voorbeeldbrieven\, pennen en papier liggen klaar. We sturen de brieven en kopieën ervan voor de ambassades dan bij elkaar in grote enveloppen op. Bijdragen in de portokosten zijn welkom.\n\nEen lunch en/of een kopje thee of koffie zijn goed met deze activiteit te combineren. Hartelijk welkom!\n\n* Elk jaar rond de dag van de mensenrechten op 10 december organiseert de stadsgroep met andere Amnesty groepen op diverse plekken in de stad de grote Write for Rights actie\, die de hele dag duurt. De precieze data en plaatsen daarvoor worden in de loop van de herfst bekend gemaakt.
URL:https://groningen.amnesty.nl/event/schrijfmiddag-in-eetcafe-de-globe-25/
LOCATION:Eetcafe de Globe\, Akerkhof 22\, Groningen\, 9711 JB\, Nederland
CATEGORIES:Schrijfmiddag
ATTACH;FMTTYPE=image/png:https://groningen.amnesty.nl/wp-content/uploads/2022/11/Schrijfmiddag.png
END:VEVENT
BEGIN:VEVENT
DTSTART;TZID=Europe/Amsterdam:20260707T120000
DTEND;TZID=Europe/Amsterdam:20260707T140000
DTSTAMP:20260420T063053
CREATED:20260108T125833Z
LAST-MODIFIED:20260108T130336Z
UID:1541-1783425600-1783432800@groningen.amnesty.nl
SUMMARY:Schrijfmiddag in eetcafé De Globe
DESCRIPTION:Elke eerste dinsdagmiddag van de maand (behalve in augustus en december*) tussen 12 uur en 14 uur organiseert de stadsgroep een open schrijfmiddag in eetcafé De Globe in het Humanitasgebouw\, Akerkhof Zuidzijde 22 in Groningen.\n\nWij schrijven dan Engelstalige brieven naar diverse internationale overheidsinstanties om onterecht gevangenen vrij te pleiten en andere schendingen van de mensenrechten aan te kaarten. De maandelijks door Amnesty Nederland aangereikte voorbeeldbrieven\, pennen en papier liggen klaar. We sturen de brieven en kopieën ervan voor de ambassades dan bij elkaar in grote enveloppen op. Bijdragen in de portokosten zijn welkom.\n\nEen lunch en/of een kopje thee of koffie zijn goed met deze activiteit te combineren. Hartelijk welkom!\n\n* Elk jaar rond de dag van de mensenrechten op 10 december organiseert de stadsgroep met andere Amnesty groepen op diverse plekken in de stad de grote Write for Rights actie\, die de hele dag duurt. De precieze data en plaatsen daarvoor worden in de loop van de herfst bekend gemaakt.
URL:https://groningen.amnesty.nl/event/schrijfmiddag-in-eetcafe-de-globe-26/
LOCATION:Eetcafe de Globe\, Akerkhof 22\, Groningen\, 9711 JB\, Nederland
CATEGORIES:Schrijfmiddag
ATTACH;FMTTYPE=image/png:https://groningen.amnesty.nl/wp-content/uploads/2022/11/Schrijfmiddag.png
END:VEVENT
BEGIN:VEVENT
DTSTART;TZID=Europe/Amsterdam:20260901T120000
DTEND;TZID=Europe/Amsterdam:20260901T140000
DTSTAMP:20260420T063053
CREATED:20260108T125931Z
LAST-MODIFIED:20260108T130311Z
UID:1543-1788264000-1788271200@groningen.amnesty.nl
SUMMARY:Schrijfmiddag in eetcafé De Globe
DESCRIPTION:Elke eerste dinsdagmiddag van de maand (behalve in augustus en december*) tussen 12 uur en 14 uur organiseert de stadsgroep een open schrijfmiddag in eetcafé De Globe in het Humanitasgebouw\, Akerkhof Zuidzijde 22 in Groningen.\n\nWij schrijven dan Engelstalige brieven naar diverse internationale overheidsinstanties om onterecht gevangenen vrij te pleiten en andere schendingen van de mensenrechten aan te kaarten. De maandelijks door Amnesty Nederland aangereikte voorbeeldbrieven\, pennen en papier liggen klaar. We sturen de brieven en kopieën ervan voor de ambassades dan bij elkaar in grote enveloppen op. Bijdragen in de portokosten zijn welkom.\n\nEen lunch en/of een kopje thee of koffie zijn goed met deze activiteit te combineren. Hartelijk welkom!\n\n* Elk jaar rond de dag van de mensenrechten op 10 december organiseert de stadsgroep met andere Amnesty groepen op diverse plekken in de stad de grote Write for Rights actie\, die de hele dag duurt. De precieze data en plaatsen daarvoor worden in de loop van de herfst bekend gemaakt.
URL:https://groningen.amnesty.nl/event/schrijfmiddag-in-eetcafe-de-globe-27/
LOCATION:Eetcafe de Globe\, Akerkhof 22\, Groningen\, 9711 JB\, Nederland
CATEGORIES:Schrijfmiddag
ATTACH;FMTTYPE=image/png:https://groningen.amnesty.nl/wp-content/uploads/2022/11/Schrijfmiddag.png
END:VEVENT
BEGIN:VEVENT
DTSTART;TZID=Europe/Amsterdam:20261006T120000
DTEND;TZID=Europe/Amsterdam:20261006T140000
DTSTAMP:20260420T063053
CREATED:20260108T130019Z
LAST-MODIFIED:20260108T130250Z
UID:1545-1791288000-1791295200@groningen.amnesty.nl
SUMMARY:Schrijfmiddag in eetcafé De Globe
DESCRIPTION:Elke eerste dinsdagmiddag van de maand (behalve in augustus en december*) tussen 12 uur en 14 uur organiseert de stadsgroep een open schrijfmiddag in eetcafé De Globe in het Humanitasgebouw\, Akerkhof Zuidzijde 22 in Groningen.\n\nWij schrijven dan Engelstalige brieven naar diverse internationale overheidsinstanties om onterecht gevangenen vrij te pleiten en andere schendingen van de mensenrechten aan te kaarten. De maandelijks door Amnesty Nederland aangereikte voorbeeldbrieven\, pennen en papier liggen klaar. We sturen de brieven en kopieën ervan voor de ambassades dan bij elkaar in grote enveloppen op. Bijdragen in de portokosten zijn welkom.\n\nEen lunch en/of een kopje thee of koffie zijn goed met deze activiteit te combineren. Hartelijk welkom!\n\n* Elk jaar rond de dag van de mensenrechten op 10 december organiseert de stadsgroep met andere Amnesty groepen op diverse plekken in de stad de grote Write for Rights actie\, die de hele dag duurt. De precieze data en plaatsen daarvoor worden in de loop van de herfst bekend gemaakt.
URL:https://groningen.amnesty.nl/event/schrijfmiddag-in-eetcafe-de-globe-28/
LOCATION:Eetcafe de Globe\, Akerkhof 22\, Groningen\, 9711 JB\, Nederland
CATEGORIES:Schrijfmiddag
ATTACH;FMTTYPE=image/png:https://groningen.amnesty.nl/wp-content/uploads/2022/11/Schrijfmiddag.png
END:VEVENT
BEGIN:VEVENT
DTSTART;TZID=Europe/Amsterdam:20261103T120000
DTEND;TZID=Europe/Amsterdam:20261103T140000
DTSTAMP:20260420T063053
CREATED:20260108T130107Z
LAST-MODIFIED:20260108T130230Z
UID:1547-1793707200-1793714400@groningen.amnesty.nl
SUMMARY:Schrijfmiddag in eetcafé De Globe
DESCRIPTION:Elke eerste dinsdagmiddag van de maand (behalve in augustus en december*) tussen 12 uur en 14 uur organiseert de stadsgroep een open schrijfmiddag in eetcafé De Globe in het Humanitasgebouw\, Akerkhof Zuidzijde 22 in Groningen.\n\nWij schrijven dan Engelstalige brieven naar diverse internationale overheidsinstanties om onterecht gevangenen vrij te pleiten en andere schendingen van de mensenrechten aan te kaarten. De maandelijks door Amnesty Nederland aangereikte voorbeeldbrieven\, pennen en papier liggen klaar. We sturen de brieven en kopieën ervan voor de ambassades dan bij elkaar in grote enveloppen op. Bijdragen in de portokosten zijn welkom.\n\nEen lunch en/of een kopje thee of koffie zijn goed met deze activiteit te combineren. Hartelijk welkom!\n\n* Elk jaar rond de dag van de mensenrechten op 10 december organiseert de stadsgroep met andere Amnesty groepen op diverse plekken in de stad de grote Write for Rights actie\, die de hele dag duurt. De precieze data en plaatsen daarvoor worden in de loop van de herfst bekend gemaakt.
URL:https://groningen.amnesty.nl/event/schrijfmiddag-in-eetcafe-de-globe-29/
LOCATION:Eetcafe de Globe\, Akerkhof 22\, Groningen\, 9711 JB\, Nederland
CATEGORIES:Schrijfmiddag
ATTACH;FMTTYPE=image/png:https://groningen.amnesty.nl/wp-content/uploads/2022/11/Schrijfmiddag.png
END:VEVENT
END:VCALENDAR