BEGIN:VCALENDAR
VERSION:2.0
PRODID:-//Amnesty International Groningen - ECPv6.15.20//NONSGML v1.0//EN
CALSCALE:GREGORIAN
METHOD:PUBLISH
X-ORIGINAL-URL:https://groningen.amnesty.nl
X-WR-CALDESC:Evenementen voor Amnesty International Groningen
REFRESH-INTERVAL;VALUE=DURATION:PT1H
X-Robots-Tag:noindex
X-PUBLISHED-TTL:PT1H
BEGIN:VTIMEZONE
TZID:Europe/Amsterdam
BEGIN:DAYLIGHT
TZOFFSETFROM:+0100
TZOFFSETTO:+0200
TZNAME:CEST
DTSTART:20220327T010000
END:DAYLIGHT
BEGIN:STANDARD
TZOFFSETFROM:+0200
TZOFFSETTO:+0100
TZNAME:CET
DTSTART:20221030T010000
END:STANDARD
BEGIN:DAYLIGHT
TZOFFSETFROM:+0100
TZOFFSETTO:+0200
TZNAME:CEST
DTSTART:20230326T010000
END:DAYLIGHT
BEGIN:STANDARD
TZOFFSETFROM:+0200
TZOFFSETTO:+0100
TZNAME:CET
DTSTART:20231029T010000
END:STANDARD
BEGIN:DAYLIGHT
TZOFFSETFROM:+0100
TZOFFSETTO:+0200
TZNAME:CEST
DTSTART:20240331T010000
END:DAYLIGHT
BEGIN:STANDARD
TZOFFSETFROM:+0200
TZOFFSETTO:+0100
TZNAME:CET
DTSTART:20241027T010000
END:STANDARD
BEGIN:DAYLIGHT
TZOFFSETFROM:+0100
TZOFFSETTO:+0200
TZNAME:CEST
DTSTART:20250330T010000
END:DAYLIGHT
BEGIN:STANDARD
TZOFFSETFROM:+0200
TZOFFSETTO:+0100
TZNAME:CET
DTSTART:20251026T010000
END:STANDARD
END:VTIMEZONE
BEGIN:VEVENT
DTSTART;TZID=Europe/Amsterdam:20230502T120000
DTEND;TZID=Europe/Amsterdam:20230502T140000
DTSTAMP:20260420T060131
CREATED:20221130T124334Z
LAST-MODIFIED:20230403T124243Z
UID:1323-1683028800-1683036000@groningen.amnesty.nl
SUMMARY:Schrijfmiddag
DESCRIPTION:Elke eerste dinsdagmiddag van de maand (behalve in augustus en december) tussen 12 uur en 14\nuur organiseert de stadsgroep een open inloop- schrijfmiddag in eetcafé De Globe (in het\nHumanitasgebouw)\, Akerkhof Zuidzijde 22 in Groningen. \nWij schrijven dan Engelstalige   internationale instanties om onterecht gevangenen vrij te pleiten. Voorbeeldbrieven\n(ook te vinden op https://www.amnesty.nl/kom-in-actie )\, pennen\, papier en enveloppen liggen klaar.\nBijdrage in portokosten welkom\, maar niet verplicht. \nLunch of kopje thee of koffie zijn goed met deze activiteit te combineren.
URL:https://groningen.amnesty.nl/event/schrijfmiddag-5/
LOCATION:Eetcafe de Globe\, Akerkhof 22\, Groningen\, 9711 JB\, Nederland
CATEGORIES:Schrijfmiddag
ATTACH;FMTTYPE=image/png:https://groningen.amnesty.nl/wp-content/uploads/2022/11/Schrijfmiddag.png
END:VEVENT
BEGIN:VEVENT
DTSTART;TZID=Europe/Amsterdam:20230504T193000
DTEND;TZID=Europe/Amsterdam:20230504T203000
DTSTAMP:20260420T060131
CREATED:20230425T065431Z
LAST-MODIFIED:20230425T065816Z
UID:1361-1683228600-1683232200@groningen.amnesty.nl
SUMMARY:Deelname dodenherdenking
DESCRIPTION:
URL:https://groningen.amnesty.nl/event/deelname-dodenherdenking/
LOCATION:Martinikerkhof & Noorddijk
END:VEVENT
BEGIN:VEVENT
DTSTART;VALUE=DATE:20230505
DTEND;VALUE=DATE:20230506
DTSTAMP:20260420T060131
CREATED:20221130T125916Z
LAST-MODIFIED:20221130T125945Z
UID:1338-1683244800-1683331199@groningen.amnesty.nl
SUMMARY:Bevrijdingsfestival Groningen
DESCRIPTION:
URL:https://groningen.amnesty.nl/event/bevrijdingsfestival-groningen/
LOCATION:Stadspark\, Concourslaan\, Groningen\, Nederland
CATEGORIES:Bevrijdingsfestival
ATTACH;FMTTYPE=image/png:https://groningen.amnesty.nl/wp-content/uploads/2022/11/BEVRIJDINGSFESTIVAL_LOGO.png
END:VEVENT
BEGIN:VEVENT
DTSTART;TZID=Europe/Amsterdam:20230606T120000
DTEND;TZID=Europe/Amsterdam:20230606T140000
DTSTAMP:20260420T060131
CREATED:20221130T124511Z
LAST-MODIFIED:20221130T124511Z
UID:1326-1686052800-1686060000@groningen.amnesty.nl
SUMMARY:Schrijfmiddag
DESCRIPTION:Elke eerste dinsdagmiddag van de maand (behalve in augustus en december) tussen 12 uur en 14\nuur organiseert de stadsgroep een open inloop- schrijfmiddag in eetcafé De Globe (in het\nHumanitasgebouw)\, Akerkhof Zuidzijde 22 in Groningen. \nWij schrijven dan Engelstalige   internationale instanties om onterecht gevangenen vrij te pleiten. Voorbeeldbrieven\n(ook te vinden op https://www.amnesty.nl/kom-in-actie )\, pennen\, papier en enveloppen liggen klaar.\nBijdrage in portokosten welkom\, maar niet verplicht. \nLunch of kopje thee of koffie zijn goed met deze activiteit te combineren.
URL:https://groningen.amnesty.nl/event/schrijfmiddag-6/
LOCATION:Eetcafe de Globe\, Akerkhof 22\, Groningen\, 9711 JB\, Nederland
CATEGORIES:Schrijfmiddag
ATTACH;FMTTYPE=image/png:https://groningen.amnesty.nl/wp-content/uploads/2022/11/Schrijfmiddag.png
END:VEVENT
BEGIN:VEVENT
DTSTART;TZID=Europe/Amsterdam:20230704T120000
DTEND;TZID=Europe/Amsterdam:20230704T140000
DTSTAMP:20260420T060131
CREATED:20221130T124627Z
LAST-MODIFIED:20221130T124627Z
UID:1328-1688472000-1688479200@groningen.amnesty.nl
SUMMARY:Schrijfmiddag
DESCRIPTION:Elke eerste dinsdagmiddag van de maand (behalve in augustus en december) tussen 12 uur en 14\nuur organiseert de stadsgroep een open inloop- schrijfmiddag in eetcafé De Globe (in het\nHumanitasgebouw)\, Akerkhof Zuidzijde 22 in Groningen. \nWij schrijven dan Engelstalige   internationale instanties om onterecht gevangenen vrij te pleiten. Voorbeeldbrieven\n(ook te vinden op https://www.amnesty.nl/kom-in-actie )\, pennen\, papier en enveloppen liggen klaar.\nBijdrage in portokosten welkom\, maar niet verplicht. \nLunch of kopje thee of koffie zijn goed met deze activiteit te combineren.
URL:https://groningen.amnesty.nl/event/schrijfmiddag-7/
LOCATION:Eetcafe de Globe\, Akerkhof 22\, Groningen\, 9711 JB\, Nederland
CATEGORIES:Schrijfmiddag
ATTACH;FMTTYPE=image/png:https://groningen.amnesty.nl/wp-content/uploads/2022/11/Schrijfmiddag.png
END:VEVENT
BEGIN:VEVENT
DTSTART;TZID=Europe/Amsterdam:20230905T120000
DTEND;TZID=Europe/Amsterdam:20230905T160000
DTSTAMP:20260420T060131
CREATED:20221130T124800Z
LAST-MODIFIED:20230726T082737Z
UID:1330-1693915200-1693929600@groningen.amnesty.nl
SUMMARY:Schrijfmiddag
DESCRIPTION:Elke eerste dinsdagmiddag van de maand (behalve in augustus en december) tussen 12 uur en 14\nuur organiseert de stadsgroep een open inloop- schrijfmiddag in eetcafé De Globe (in het\nHumanitasgebouw)\, Akerkhof Zuidzijde 22 in Groningen. \nWij schrijven dan Engelstalige   internationale instanties om onterecht gevangenen vrij te pleiten. Voorbeeldbrieven\n(ook te vinden op https://www.amnesty.nl/kom-in-actie )\, pennen\, papier en enveloppen liggen klaar.\nBijdrage in portokosten welkom\, maar niet verplicht. \nLunch of kopje thee of koffie zijn goed met deze activiteit te combineren.
URL:https://groningen.amnesty.nl/event/schrijfmiddag-8/
LOCATION:Eetcafe de Globe\, Akerkhof 22\, Groningen\, 9711 JB\, Nederland
CATEGORIES:Schrijfmiddag
ATTACH;FMTTYPE=image/png:https://groningen.amnesty.nl/wp-content/uploads/2022/11/Schrijfmiddag.png
END:VEVENT
BEGIN:VEVENT
DTSTART;TZID=Europe/Amsterdam:20230923T120000
DTEND;TZID=Europe/Amsterdam:20230923T170000
DTSTAMP:20260420T060131
CREATED:20221130T120851Z
LAST-MODIFIED:20230913T124512Z
UID:1306-1695470400-1695488400@groningen.amnesty.nl
SUMMARY:kraampje met kaarten en meer
DESCRIPTION:
URL:https://groningen.amnesty.nl/event/kraampje-met-kaarten-en-meer/
LOCATION:Vismarkt\, Vismarkt\, Groningen\, Nederland
ATTACH;FMTTYPE=image/png:https://groningen.amnesty.nl/wp-content/uploads/2022/11/kraampje-met-kaarten.png
END:VEVENT
BEGIN:VEVENT
DTSTART;TZID=Europe/Amsterdam:20231003T120000
DTEND;TZID=Europe/Amsterdam:20231003T140000
DTSTAMP:20260420T060131
CREATED:20221130T124904Z
LAST-MODIFIED:20221130T145535Z
UID:1332-1696334400-1696341600@groningen.amnesty.nl
SUMMARY:Schrijfmiddag
DESCRIPTION:Elke eerste dinsdagmiddag van de maand (behalve in augustus en december) tussen 12 uur en 14\nuur organiseert de stadsgroep een open inloop- schrijfmiddag in eetcafé De Globe (in het\nHumanitasgebouw)\, Akerkhof Zuidzijde 22 in Groningen. \nWij schrijven dan Engelstalige   internationale instanties om onterecht gevangenen vrij te pleiten. Voorbeeldbrieven\n(ook te vinden op https://www.amnesty.nl/kom-in-actie )\, pennen\, papier en enveloppen liggen klaar.\nBijdrage in portokosten welkom\, maar niet verplicht. \nLunch of kopje thee of koffie zijn goed met deze activiteit te combineren.
URL:https://groningen.amnesty.nl/event/schrijfmiddag-9/
LOCATION:Eetcafe de Globe\, Akerkhof 22\, Groningen\, 9711 JB\, Nederland
CATEGORIES:Schrijfmiddag
ATTACH;FMTTYPE=image/png:https://groningen.amnesty.nl/wp-content/uploads/2022/11/Schrijfmiddag.png
END:VEVENT
BEGIN:VEVENT
DTSTART;TZID=Europe/Amsterdam:20231021T080000
DTEND;TZID=Europe/Amsterdam:20231021T170000
DTSTAMP:20260420T060131
CREATED:20231011T080826Z
LAST-MODIFIED:20231011T080941Z
UID:1370-1697875200-1697907600@groningen.amnesty.nl
SUMMARY:kraampje met kaarten en meer
DESCRIPTION:
URL:https://groningen.amnesty.nl/event/kraampje-met-kaarten-en-meer-2/
LOCATION:Vismarkt\, Vismarkt\, Groningen\, Nederland
END:VEVENT
BEGIN:VEVENT
DTSTART;TZID=Europe/Amsterdam:20231107T120000
DTEND;TZID=Europe/Amsterdam:20231107T140000
DTSTAMP:20260420T060131
CREATED:20221130T125321Z
LAST-MODIFIED:20221130T125321Z
UID:1335-1699358400-1699365600@groningen.amnesty.nl
SUMMARY:Schrijfmiddag
DESCRIPTION:Elke eerste dinsdagmiddag van de maand (behalve in augustus en december) tussen 12 uur en 14\nuur organiseert de stadsgroep een open inloop- schrijfmiddag in eetcafé De Globe (in het\nHumanitasgebouw)\, Akerkhof Zuidzijde 22 in Groningen. \nWij schrijven dan Engelstalige   internationale instanties om onterecht gevangenen vrij te pleiten. Voorbeeldbrieven\n(ook te vinden op https://www.amnesty.nl/kom-in-actie )\, pennen\, papier en enveloppen liggen klaar.\nBijdrage in portokosten welkom\, maar niet verplicht. \nLunch of kopje thee of koffie zijn goed met deze activiteit te combineren.
URL:https://groningen.amnesty.nl/event/schrijfmiddag-10/
LOCATION:Eetcafe de Globe\, Akerkhof 22\, Groningen\, 9711 JB\, Nederland
CATEGORIES:Schrijfmiddag
ATTACH;FMTTYPE=image/png:https://groningen.amnesty.nl/wp-content/uploads/2022/11/Schrijfmiddag.png
END:VEVENT
BEGIN:VEVENT
DTSTART;TZID=Europe/Amsterdam:20231125T080000
DTEND;TZID=Europe/Amsterdam:20231125T170000
DTSTAMP:20260420T060131
CREATED:20231124T100610Z
LAST-MODIFIED:20231124T100823Z
UID:1374-1700899200-1700931600@groningen.amnesty.nl
SUMMARY:Stand van Amnesty
DESCRIPTION:Kom naar de stand van Amnesty op de markt (nabij A kerk/Korenbeurs) met informatie over het werk van Amnesty International. \nEr liggen petitielijsten om te tekenen\, kaarten en kaarsen en andere Amnesty gerelateerde artikelen.
URL:https://groningen.amnesty.nl/event/stand-van-amnesty/
LOCATION:A-Kerk / Korenbeurs\, Nabij A-Kerk / Korenbeurs\, Groningen
ATTACH;FMTTYPE=image/png:https://groningen.amnesty.nl/wp-content/uploads/2022/11/kraampje-met-kaarten.png
END:VEVENT
BEGIN:VEVENT
DTSTART;TZID=Europe/Amsterdam:20231216T120000
DTEND;TZID=Europe/Amsterdam:20231216T170000
DTSTAMP:20260420T060131
CREATED:20231204T111822Z
LAST-MODIFIED:20231204T111822Z
UID:1382-1702728000-1702746000@groningen.amnesty.nl
SUMMARY:Amnestystand op de markt
DESCRIPTION:16 December staan we weer met onze Amnestystand op de markt(nabij de Akerk/Korenbeurs) met informatie\, verkoop materialen en petitielijsten. \n  \n 
URL:https://groningen.amnesty.nl/event/amnestystand-op-de-markt/
LOCATION:A-Kerk / Korenbeurs\, Nabij A-Kerk / Korenbeurs\, Groningen
ATTACH;FMTTYPE=image/png:https://groningen.amnesty.nl/wp-content/uploads/2022/11/kraampje-met-kaarten.png
END:VEVENT
BEGIN:VEVENT
DTSTART;TZID=Europe/Amsterdam:20240109T080000
DTEND;TZID=Europe/Amsterdam:20240109T140000
DTSTAMP:20260420T060131
CREATED:20231204T112211Z
LAST-MODIFIED:20240116T184035Z
UID:1384-1704787200-1704808800@groningen.amnesty.nl
SUMMARY:Schrijfmiddag in eetcafé De Globe
DESCRIPTION:Elke eerste dinsdagmiddag (Met uitzondering van 2 januari) van de maand tussen 12 uur en 14\nuur organiseert de stadsgroep een open inloop- schrijfmiddag in eetcafé De Globe (in het\nHumanitasgebouw)\, Akerkhof Zuidzijde 22 in Groningen. \nWij schrijven dan Engelstalige   internationale instanties om onterecht gevangenen vrij te pleiten. Voorbeeldbrieven\n(ook te vinden op https://www.amnesty.nl/kom-in-actie )\, pennen\, papier en enveloppen liggen klaar.\nBijdrage in portokosten welkom\, maar niet verplicht. \nLunch of kopje thee of koffie zijn goed met deze activiteit te combineren.
URL:https://groningen.amnesty.nl/event/09-01-2024/
LOCATION:Eetcafe de Globe\, Akerkhof 22\, Groningen\, 9711 JB\, Nederland
CATEGORIES:Schrijfmiddag
ATTACH;FMTTYPE=image/png:https://groningen.amnesty.nl/wp-content/uploads/2022/11/Schrijfmiddag.png
END:VEVENT
BEGIN:VEVENT
DTSTART;TZID=Europe/Amsterdam:20240206T120000
DTEND;TZID=Europe/Amsterdam:20240206T140000
DTSTAMP:20260420T060131
CREATED:20231204T112558Z
LAST-MODIFIED:20240116T184026Z
UID:1387-1707220800-1707228000@groningen.amnesty.nl
SUMMARY:Schrijfmiddag in eetcafé De Globe
DESCRIPTION:Elke eerste dinsdagmiddag (Met uitzondering van 2 januari) van de maand tussen 12 uur en 14\nuur organiseert de stadsgroep een open inloop- schrijfmiddag in eetcafé De Globe (in het\nHumanitasgebouw)\, Akerkhof Zuidzijde 22 in Groningen. \nWij schrijven dan Engelstalige   internationale instanties om onterecht gevangenen vrij te pleiten. Voorbeeldbrieven\n(ook te vinden op https://www.amnesty.nl/kom-in-actie )\, pennen\, papier en enveloppen liggen klaar.\nBijdrage in portokosten welkom\, maar niet verplicht. \nLunch of kopje thee of koffie zijn goed met deze activiteit te combineren.
URL:https://groningen.amnesty.nl/event/schrijfmiddag-in-eetcafe-de-globe/
LOCATION:Eetcafe de Globe\, Akerkhof 22\, Groningen\, 9711 JB\, Nederland
CATEGORIES:Schrijfmiddag
ATTACH;FMTTYPE=image/png:https://groningen.amnesty.nl/wp-content/uploads/2022/11/Schrijfmiddag.png
END:VEVENT
BEGIN:VEVENT
DTSTART;TZID=Europe/Amsterdam:20240305T120000
DTEND;TZID=Europe/Amsterdam:20240305T140000
DTSTAMP:20260420T060131
CREATED:20231204T112703Z
LAST-MODIFIED:20240116T184017Z
UID:1389-1709640000-1709647200@groningen.amnesty.nl
SUMMARY:Schrijfmiddag in eetcafé De Globe
DESCRIPTION:Elke eerste dinsdagmiddag (Met uitzondering van 2 januari) van de maand tussen 12 uur en 14\nuur organiseert de stadsgroep een open inloop- schrijfmiddag in eetcafé De Globe (in het\nHumanitasgebouw)\, Akerkhof Zuidzijde 22 in Groningen. \nWij schrijven dan Engelstalige   internationale instanties om onterecht gevangenen vrij te pleiten. Voorbeeldbrieven\n(ook te vinden op https://www.amnesty.nl/kom-in-actie )\, pennen\, papier en enveloppen liggen klaar.\nBijdrage in portokosten welkom\, maar niet verplicht. \nLunch of kopje thee of koffie zijn goed met deze activiteit te combineren.
URL:https://groningen.amnesty.nl/event/schrijfmiddag-in-eetcafe-de-globe-2/
LOCATION:Eetcafe de Globe\, Akerkhof 22\, Groningen\, 9711 JB\, Nederland
CATEGORIES:Schrijfmiddag
ATTACH;FMTTYPE=image/png:https://groningen.amnesty.nl/wp-content/uploads/2022/11/Schrijfmiddag.png
END:VEVENT
BEGIN:VEVENT
DTSTART;TZID=Europe/Amsterdam:20240402T120000
DTEND;TZID=Europe/Amsterdam:20240402T140000
DTSTAMP:20260420T060131
CREATED:20231204T112908Z
LAST-MODIFIED:20240116T184008Z
UID:1393-1712059200-1712066400@groningen.amnesty.nl
SUMMARY:Schrijfmiddag in eetcafé De Globe
DESCRIPTION:Elke eerste dinsdagmiddag (Met uitzondering van 2 januari) van de maand tussen 12 uur en 14\nuur organiseert de stadsgroep een open inloop- schrijfmiddag in eetcafé De Globe (in het\nHumanitasgebouw)\, Akerkhof Zuidzijde 22 in Groningen. \nWij schrijven dan Engelstalige   internationale instanties om onterecht gevangenen vrij te pleiten. Voorbeeldbrieven\n(ook te vinden op https://www.amnesty.nl/kom-in-actie )\, pennen\, papier en enveloppen liggen klaar.\nBijdrage in portokosten welkom\, maar niet verplicht. \nLunch of kopje thee of koffie zijn goed met deze activiteit te combineren.
URL:https://groningen.amnesty.nl/event/schrijfmiddag-in-eetcafe-de-globe-3/
LOCATION:Eetcafe de Globe\, Akerkhof 22\, Groningen\, 9711 JB\, Nederland
CATEGORIES:Schrijfmiddag
ATTACH;FMTTYPE=image/png:https://groningen.amnesty.nl/wp-content/uploads/2022/11/Schrijfmiddag.png
END:VEVENT
BEGIN:VEVENT
DTSTART;TZID=Europe/Amsterdam:20240504T193000
DTEND;TZID=Europe/Amsterdam:20240504T203000
DTSTAMP:20260420T060131
CREATED:20240116T184301Z
LAST-MODIFIED:20240116T184301Z
UID:1411-1714851000-1714854600@groningen.amnesty.nl
SUMMARY:Deelname dodenherdenking
DESCRIPTION:
URL:https://groningen.amnesty.nl/event/deelname-dodenherdenking-2/
LOCATION:Martinikerkhof & Noorddijk
END:VEVENT
BEGIN:VEVENT
DTSTART;TZID=Europe/Amsterdam:20240505T080000
DTEND;TZID=Europe/Amsterdam:20240505T170000
DTSTAMP:20260420T060131
CREATED:20240116T184427Z
LAST-MODIFIED:20240116T184427Z
UID:1413-1714896000-1714928400@groningen.amnesty.nl
SUMMARY:Bevrijdingsfestival Groningen
DESCRIPTION:
URL:https://groningen.amnesty.nl/event/bevrijdingsfestival-groningen-2/
LOCATION:Stadspark\, Concourslaan\, Groningen\, Nederland
ATTACH;FMTTYPE=image/png:https://groningen.amnesty.nl/wp-content/uploads/2022/11/BEVRIJDINGSFESTIVAL_LOGO.png
END:VEVENT
BEGIN:VEVENT
DTSTART;TZID=Europe/Amsterdam:20240507T120000
DTEND;TZID=Europe/Amsterdam:20240507T140000
DTSTAMP:20260420T060131
CREATED:20231204T113019Z
LAST-MODIFIED:20240116T183957Z
UID:1395-1715083200-1715090400@groningen.amnesty.nl
SUMMARY:Schrijfmiddag in eetcafé De Globe
DESCRIPTION:Elke eerste dinsdagmiddag (Met uitzondering van 2 januari) van de maand tussen 12 uur en 14\nuur organiseert de stadsgroep een open inloop- schrijfmiddag in eetcafé De Globe (in het\nHumanitasgebouw)\, Akerkhof Zuidzijde 22 in Groningen. \nWij schrijven dan Engelstalige   internationale instanties om onterecht gevangenen vrij te pleiten. Voorbeeldbrieven\n(ook te vinden op https://www.amnesty.nl/kom-in-actie )\, pennen\, papier en enveloppen liggen klaar.\nBijdrage in portokosten welkom\, maar niet verplicht. \nLunch of kopje thee of koffie zijn goed met deze activiteit te combineren.
URL:https://groningen.amnesty.nl/event/schrijfmiddag-in-eetcafe-de-globe-4/
LOCATION:Eetcafe de Globe\, Akerkhof 22\, Groningen\, 9711 JB\, Nederland
CATEGORIES:Schrijfmiddag
ATTACH;FMTTYPE=image/png:https://groningen.amnesty.nl/wp-content/uploads/2022/11/Schrijfmiddag.png
END:VEVENT
BEGIN:VEVENT
DTSTART;TZID=Europe/Amsterdam:20240525T120000
DTEND;TZID=Europe/Amsterdam:20240525T170000
DTSTAMP:20260420T060131
CREATED:20240508T044023Z
LAST-MODIFIED:20240508T044023Z
UID:1430-1716638400-1716656400@groningen.amnesty.nl
SUMMARY:Amnesty International stand op de markt
DESCRIPTION:Bezoek onze stand en krijg informatie over het werk van Amnesty International. Er liggen petitielijsten om te tekenen\, kaarten en kaarsen en andere Amnesty gerelateerde artikelen.
URL:https://groningen.amnesty.nl/event/amnesty-international-stand-op-de-markt/
LOCATION:A-Kerk / Korenbeurs\, Nabij A-Kerk / Korenbeurs\, Groningen
END:VEVENT
BEGIN:VEVENT
DTSTART;TZID=Europe/Amsterdam:20240604T120000
DTEND;TZID=Europe/Amsterdam:20240604T140000
DTSTAMP:20260420T060131
CREATED:20231204T113132Z
LAST-MODIFIED:20240116T183947Z
UID:1397-1717502400-1717509600@groningen.amnesty.nl
SUMMARY:Schrijfmiddag in eetcafé De Globe
DESCRIPTION:Elke eerste dinsdagmiddag (Met uitzondering van 2 januari) van de maand tussen 12 uur en 14\nuur organiseert de stadsgroep een open inloop- schrijfmiddag in eetcafé De Globe (in het\nHumanitasgebouw)\, Akerkhof Zuidzijde 22 in Groningen. \nWij schrijven dan Engelstalige   internationale instanties om onterecht gevangenen vrij te pleiten. Voorbeeldbrieven\n(ook te vinden op https://www.amnesty.nl/kom-in-actie )\, pennen\, papier en enveloppen liggen klaar.\nBijdrage in portokosten welkom\, maar niet verplicht. \nLunch of kopje thee of koffie zijn goed met deze activiteit te combineren.
URL:https://groningen.amnesty.nl/event/schrijfmiddag-in-eetcafe-de-globe-5/
LOCATION:Eetcafe de Globe\, Akerkhof 22\, Groningen\, 9711 JB\, Nederland
CATEGORIES:Schrijfmiddag
ATTACH;FMTTYPE=image/png:https://groningen.amnesty.nl/wp-content/uploads/2022/11/Schrijfmiddag.png
END:VEVENT
BEGIN:VEVENT
DTSTART;TZID=Europe/Amsterdam:20240630T120000
DTEND;TZID=Europe/Amsterdam:20240630T170000
DTSTAMP:20260420T060131
CREATED:20240620T134325Z
LAST-MODIFIED:20240620T134325Z
UID:1433-1719748800-1719766800@groningen.amnesty.nl
SUMMARY:Zomermarkt Vinkhuizen
DESCRIPTION:Kom langs bij de Amnesty kraam met petitielijsten. \nTevens verkopen we kaarten en meer.
URL:https://groningen.amnesty.nl/event/zomermarkt-vinkhuizen/
END:VEVENT
BEGIN:VEVENT
DTSTART;TZID=Europe/Amsterdam:20240702T120000
DTEND;TZID=Europe/Amsterdam:20240702T140000
DTSTAMP:20260420T060131
CREATED:20231204T113251Z
LAST-MODIFIED:20240116T183929Z
UID:1400-1719921600-1719928800@groningen.amnesty.nl
SUMMARY:Schrijfmiddag in eetcafé De Globe
DESCRIPTION:Elke eerste dinsdagmiddag (Met uitzondering van 2 januari) van de maand tussen 12 uur en 14\nuur organiseert de stadsgroep een open inloop- schrijfmiddag in eetcafé De Globe (in het\nHumanitasgebouw)\, Akerkhof Zuidzijde 22 in Groningen. \nWij schrijven dan Engelstalige   internationale instanties om onterecht gevangenen vrij te pleiten. Voorbeeldbrieven\n(ook te vinden op https://www.amnesty.nl/kom-in-actie )\, pennen\, papier en enveloppen liggen klaar.\nBijdrage in portokosten welkom\, maar niet verplicht. \nLunch of kopje thee of koffie zijn goed met deze activiteit te combineren.
URL:https://groningen.amnesty.nl/event/schrijfmiddag-in-eetcafe-de-globe-6/
LOCATION:Eetcafe de Globe\, Akerkhof 22\, Groningen\, 9711 JB\, Nederland
CATEGORIES:Schrijfmiddag
ATTACH;FMTTYPE=image/png:https://groningen.amnesty.nl/wp-content/uploads/2022/11/Schrijfmiddag.png
END:VEVENT
BEGIN:VEVENT
DTSTART;TZID=Europe/Amsterdam:20240706T120000
DTEND;TZID=Europe/Amsterdam:20240706T170000
DTSTAMP:20260420T060131
CREATED:20240620T134542Z
LAST-MODIFIED:20240620T134612Z
UID:1435-1720267200-1720285200@groningen.amnesty.nl
SUMMARY:Amnesty kraam - Vismarkt
DESCRIPTION:Kom langs bij de Amnesty kraam  op de vismarkt voor petitielijsten. \nTevens verkopen wij kaarten\, boeken en meer. \n 
URL:https://groningen.amnesty.nl/event/amnesty-kraam-op-de-vismarkt/
LOCATION:Vismarkt\, Vismarkt\, Groningen\, Nederland
END:VEVENT
BEGIN:VEVENT
DTSTART;TZID=Europe/Amsterdam:20240903T120000
DTEND;TZID=Europe/Amsterdam:20240903T140000
DTSTAMP:20260420T060131
CREATED:20231204T113435Z
LAST-MODIFIED:20240116T183914Z
UID:1402-1725364800-1725372000@groningen.amnesty.nl
SUMMARY:Schrijfmiddag in eetcafé De Globe
DESCRIPTION:Elke eerste dinsdagmiddag (Met uitzondering van 2 januari) van de maand tussen 12 uur en 14\nuur organiseert de stadsgroep een open inloop- schrijfmiddag in eetcafé De Globe (in het\nHumanitasgebouw)\, Akerkhof Zuidzijde 22 in Groningen. \nWij schrijven dan Engelstalige   internationale instanties om onterecht gevangenen vrij te pleiten. Voorbeeldbrieven\n(ook te vinden op https://www.amnesty.nl/kom-in-actie )\, pennen\, papier en enveloppen liggen klaar.\nBijdrage in portokosten welkom\, maar niet verplicht. \nLunch of kopje thee of koffie zijn goed met deze activiteit te combineren.
URL:https://groningen.amnesty.nl/event/schrijfmiddag-in-eetcafe-de-globe-7/
LOCATION:Eetcafe de Globe\, Akerkhof 22\, Groningen\, 9711 JB\, Nederland
CATEGORIES:Schrijfmiddag
ATTACH;FMTTYPE=image/png:https://groningen.amnesty.nl/wp-content/uploads/2022/11/Schrijfmiddag.png
END:VEVENT
BEGIN:VEVENT
DTSTART;TZID=Europe/Amsterdam:20240928T120000
DTEND;TZID=Europe/Amsterdam:20240928T170000
DTSTAMP:20260420T060131
CREATED:20240913T102120Z
LAST-MODIFIED:20240913T102129Z
UID:1439-1727524800-1727542800@groningen.amnesty.nl
SUMMARY:Amnesty Stand op de markt
DESCRIPTION:Kom langs bij de Amnesty stand voor informatie over het werk van Amnesty International. \nEr liggen petitielijsten om te tekenen\, kaarten en kaarsen en andere Amnesty gerelateerde artikelen.
URL:https://groningen.amnesty.nl/event/amnesty-stand-op-de-markt/
LOCATION:A-Kerk / Korenbeurs\, Nabij A-Kerk / Korenbeurs\, Groningen
END:VEVENT
BEGIN:VEVENT
DTSTART;TZID=Europe/Amsterdam:20241001T120000
DTEND;TZID=Europe/Amsterdam:20241001T140000
DTSTAMP:20260420T060131
CREATED:20231204T113525Z
LAST-MODIFIED:20240116T183903Z
UID:1404-1727784000-1727791200@groningen.amnesty.nl
SUMMARY:Schrijfmiddag in eetcafé De Globe
DESCRIPTION:Elke eerste dinsdagmiddag (Met uitzondering van 2 januari) van de maand tussen 12 uur en 14\nuur organiseert de stadsgroep een open inloop- schrijfmiddag in eetcafé De Globe (in het\nHumanitasgebouw)\, Akerkhof Zuidzijde 22 in Groningen. \nWij schrijven dan Engelstalige   internationale instanties om onterecht gevangenen vrij te pleiten. Voorbeeldbrieven\n(ook te vinden op https://www.amnesty.nl/kom-in-actie )\, pennen\, papier en enveloppen liggen klaar.\nBijdrage in portokosten welkom\, maar niet verplicht. \nLunch of kopje thee of koffie zijn goed met deze activiteit te combineren.
URL:https://groningen.amnesty.nl/event/schrijfmiddag-in-eetcafe-de-globe-8/
LOCATION:Eetcafe de Globe\, Akerkhof 22\, Groningen\, 9711 JB\, Nederland
CATEGORIES:Schrijfmiddag
ATTACH;FMTTYPE=image/png:https://groningen.amnesty.nl/wp-content/uploads/2022/11/Schrijfmiddag.png
END:VEVENT
BEGIN:VEVENT
DTSTART;TZID=Europe/Amsterdam:20241105T120000
DTEND;TZID=Europe/Amsterdam:20241105T140000
DTSTAMP:20260420T060132
CREATED:20231204T113626Z
LAST-MODIFIED:20240116T183853Z
UID:1406-1730808000-1730815200@groningen.amnesty.nl
SUMMARY:Schrijfmiddag in eetcafé De Globe
DESCRIPTION:Elke eerste dinsdagmiddag (Met uitzondering van 2 januari) van de maand tussen 12 uur en 14\nuur organiseert de stadsgroep een open inloop- schrijfmiddag in eetcafé De Globe (in het\nHumanitasgebouw)\, Akerkhof Zuidzijde 22 in Groningen. \nWij schrijven dan Engelstalige   internationale instanties om onterecht gevangenen vrij te pleiten. Voorbeeldbrieven\n(ook te vinden op https://www.amnesty.nl/kom-in-actie )\, pennen\, papier en enveloppen liggen klaar.\nBijdrage in portokosten welkom\, maar niet verplicht. \nLunch of kopje thee of koffie zijn goed met deze activiteit te combineren.
URL:https://groningen.amnesty.nl/event/schrijfmiddag-in-eetcafe-de-globe-9/
LOCATION:Eetcafe de Globe\, Akerkhof 22\, Groningen\, 9711 JB\, Nederland
CATEGORIES:Schrijfmiddag
ATTACH;FMTTYPE=image/png:https://groningen.amnesty.nl/wp-content/uploads/2022/11/Schrijfmiddag.png
END:VEVENT
BEGIN:VEVENT
DTSTART;TZID=Europe/Amsterdam:20241109T120000
DTEND;TZID=Europe/Amsterdam:20241109T170000
DTSTAMP:20260420T060132
CREATED:20241027T082125Z
LAST-MODIFIED:20241027T082233Z
UID:1443-1731153600-1731171600@groningen.amnesty.nl
SUMMARY:Stand van Amnesty op de markt
DESCRIPTION:Stand van Amnesty (Akerkhof of Vismarkt) op de markt met informatie over het werk van Amnesty International. Er liggen petitielijsten om te tekenen\, kaarten\, kaarsen en andere Amnesty gerelateerde artikelen.
URL:https://groningen.amnesty.nl/event/1443/
LOCATION:Vismarkt\, Vismarkt\, Groningen\, Nederland
ATTACH;FMTTYPE=image/jpeg:https://groningen.amnesty.nl/wp-content/uploads/2023/03/amnesty.jpg
END:VEVENT
BEGIN:VEVENT
DTSTART;TZID=Europe/Amsterdam:20241123T120000
DTEND;TZID=Europe/Amsterdam:20241123T170000
DTSTAMP:20260420T060132
CREATED:20241111T123533Z
LAST-MODIFIED:20241111T123533Z
UID:1470-1732363200-1732381200@groningen.amnesty.nl
SUMMARY:Stand van Amnesty op de markt
DESCRIPTION:Stand van Amnesty (Akerkhof of Vismarkt) op de markt met informatie over het werk van Amnesty International. Er liggen petitielijsten om te tekenen\, kaarten\, kaarsen en andere Amnesty gerelateerde artikelen.
URL:https://groningen.amnesty.nl/event/stand-van-amnesty-op-de-markt/
LOCATION:Vismarkt\, Vismarkt\, Groningen\, Nederland
ATTACH;FMTTYPE=image/png:https://groningen.amnesty.nl/wp-content/uploads/2022/11/kraampje-met-kaarten.png
END:VEVENT
END:VCALENDAR