BEGIN:VCALENDAR
VERSION:2.0
PRODID:-//Amnesty International Groningen - ECPv6.15.20//NONSGML v1.0//EN
CALSCALE:GREGORIAN
METHOD:PUBLISH
X-WR-CALNAME:Amnesty International Groningen
X-ORIGINAL-URL:https://groningen.amnesty.nl
X-WR-CALDESC:Evenementen voor Amnesty International Groningen
REFRESH-INTERVAL;VALUE=DURATION:PT1H
X-Robots-Tag:noindex
X-PUBLISHED-TTL:PT1H
BEGIN:VTIMEZONE
TZID:Europe/Amsterdam
BEGIN:DAYLIGHT
TZOFFSETFROM:+0100
TZOFFSETTO:+0200
TZNAME:CEST
DTSTART:20240331T010000
END:DAYLIGHT
BEGIN:STANDARD
TZOFFSETFROM:+0200
TZOFFSETTO:+0100
TZNAME:CET
DTSTART:20241027T010000
END:STANDARD
BEGIN:DAYLIGHT
TZOFFSETFROM:+0100
TZOFFSETTO:+0200
TZNAME:CEST
DTSTART:20250330T010000
END:DAYLIGHT
BEGIN:STANDARD
TZOFFSETFROM:+0200
TZOFFSETTO:+0100
TZNAME:CET
DTSTART:20251026T010000
END:STANDARD
BEGIN:DAYLIGHT
TZOFFSETFROM:+0100
TZOFFSETTO:+0200
TZNAME:CEST
DTSTART:20260329T010000
END:DAYLIGHT
BEGIN:STANDARD
TZOFFSETFROM:+0200
TZOFFSETTO:+0100
TZNAME:CET
DTSTART:20261025T010000
END:STANDARD
END:VTIMEZONE
BEGIN:VEVENT
DTSTART;TZID=Europe/Amsterdam:20250621T120000
DTEND;TZID=Europe/Amsterdam:20250621T170000
DTSTAMP:20260421T012930
CREATED:20250607T065144Z
LAST-MODIFIED:20250607T065227Z
UID:1496-1750507200-1750525200@groningen.amnesty.nl
SUMMARY:Stand van Amnesty op de vismarkt
DESCRIPTION:Stand van Amnesty op de Vismarkt  met informatie over het werk van Amnesty International. Er liggen petitielijsten om te tekenen\, kaarten\, kaarsen en andere Amnesty gerelateerde artikelen.
URL:https://groningen.amnesty.nl/event/stand-van-amnesty-op-de-vismarkt/
LOCATION:Vismarkt\, Vismarkt\, Groningen\, Nederland
ATTACH;FMTTYPE=image/jpeg:https://groningen.amnesty.nl/wp-content/uploads/2023/03/amnesty.jpg
END:VEVENT
END:VCALENDAR